BEGIN:VCALENDAR
VERSION:2.0
PRODID:-//wp-events-plugin.com//7.2.3.1//EN
BEGIN:VEVENT
UID:14@robin-hielke.nl
DTSTART:20240816T170000Z
DTEND:20240817T220000Z
DTSTAMP:20240612T074638Z
URL:http://robin-hielke.nl/events/voddemoer-op-annotopia-du/
SUMMARY:Voddemoêr op Annotopia (DU)
DESCRIPTION:Voddemoêr gaat naar Duitsland!\nOp 16 &amp\; 17 augustus speel
 t Voddmoêr op Annotopia - Bad Mergentheim.\n\nHier vind je het programma\
 nEn hier kun je tickets bestellen
ATTACH;FMTTYPE=image/jpeg:http://robin-hielke.nl/wp-content/uploads/2024/0
 6/LisettePeenen_5.jpg
CATEGORIES:Optredens
LOCATION:Bad Mergentheim\, Schloß 16\, Bad Mergentheim\, 97980\, Duitsland
X-APPLE-STRUCTURED-LOCATION;VALUE=URI;X-ADDRESS=Schloß 16\, Bad Mergenthei
 m\, 97980\, Duitsland;X-APPLE-RADIUS=100;X-TITLE=Bad Mergentheim:geo:0,0
END:VEVENT
END:VCALENDAR