BEGIN:VCALENDAR
VERSION:2.0
PRODID:-//wp-events-plugin.com//7.2.3.1//EN
BEGIN:VEVENT
UID:8@robin-hielke.nl
DTSTART;VALUE=DATE:20241129
DTEND;VALUE=DATE:20241202
DTSTAMP:20240530T114103Z
URL:https://robin-hielke.nl/events/carol-folk-bij-het-winter-spektakulum/
SUMMARY:Carol Folk bij het Winter Spektakulum
DESCRIPTION:Carol Folk speelt traditionle Engelse Carols met swingende Jigs
  &amp\; Reels. Op dit eerste advent weekeind zijn ze te horen in Duitsland
  bij de prachtige Burg Altena.
ATTACH;FMTTYPE=image/jpeg:https://robin-hielke.nl/wp-content/uploads/2023/
 06/received_554509498664618.jpeg
CATEGORIES:Optredens
LOCATION:Burg Altena\, Fritz-Thomée-Straße 80\, Altena\, 58762 \, Duitsla
 nd
X-APPLE-STRUCTURED-LOCATION;VALUE=URI;X-ADDRESS=Fritz-Thomée-Straße 80\, 
 Altena\, 58762 \, Duitsland;X-APPLE-RADIUS=100;X-TITLE=Burg Altena:geo:0,0
END:VEVENT
END:VCALENDAR