BEGIN:VCALENDAR
VERSION:2.0
PRODID:-//wp-events-plugin.com//7.2.3.1//EN
BEGIN:VEVENT
UID:10@robin-hielke.nl
DTSTART:20241103T200000Z
DTEND:20241103T220000Z
DTSTAMP:20240530T114812Z
URL:https://robin-hielke.nl/events/requiem-van-faure-2/
SUMMARY:Requiem van Faure
DESCRIPTION:In 2024 is het 100 jaar geleden dat Gabriel Fauré overleed. Fa
 uré’s muziek verbindt het einde van de Romantiek met het modernisme van
  het tweede kwart van de 20e eeuw. Hij was een van de belangrijkste Franse
  componisten van zijn generatie en zijn muzikale stijl heeft veel componis
 ten uit de 20e eeuw beïnvloed.\n\nHet Nieuwegeins Kamerkoor zingt het moo
 ie Messe de Requiem van Fauré\, begeleid door een kamerorkest. Daarnaast 
 nog enkele kleine werken.
ATTACH;FMTTYPE=image/jpeg:https://robin-hielke.nl/wp-content/uploads/2022/
 11/IMG_4370-scaled.jpg
END:VEVENT
END:VCALENDAR