BEGIN:VCALENDAR
VERSION:2.0
PRODID:-//wp-events-plugin.com//7.2.3.1//EN
BEGIN:VEVENT
UID:7@robin-hielke.nl
DTSTART:20241221T193000Z
DTEND:20241221T220000Z
DTSTAMP:20240612T080508Z
URL:https://robin-hielke.nl/events/voddemoer-bij-het-nederfolk-revival-con
 cert/
SUMMARY:Voddemoêr bij het Nederfolk Revival Concert
DESCRIPTION:Na het grote succes van de Nederfolk-avond rond Kees van der Po
 el op 9 februari jl.\, heeft Roots aan de Zaan het initiatief genomen hier
 op een vervolg te organiseren.\n\nOp zaterdag 21 december 2024 vindt er ee
 n unieke Nederfolk-reünie plaats in de Pasveerzaal/Fluxus in Zaandam. Vij
 ftig jaar na de Folkrevival van 1974 toen Fungus de Top 40 beklom met Kaap
 ’ren Varen en ook groepen als Deirdre en Crackerhash tot de fine fleur v
 an de Nederfolk behoorden\, vieren we een nieuwe Folkrevival met de jonge 
 folkgroepen Voddemoêr en Four Of A Kind.\nZij geven samen met (ex-)leden 
 van Fungus\, Deirdre en Crackerhash een uniek eenmalig concert. En omdat h
 et de zaterdag voor Kerst is zal het een extra kersttintje krijgen.\nDe av
 ond zal in het teken staan van het Nederlandstalige lied en Nederlandse in
 strumentals en dansen. Er wordt gespeeld in wisselende bezettingen.
ATTACH;FMTTYPE=image/jpeg:https://robin-hielke.nl/wp-content/uploads/2024/
 06/LisettePeenen_2.jpg
LOCATION:Roots aan de Zaan\, Westzijde 148\, Zaandam\, 1506 EK\, Nederland
X-APPLE-STRUCTURED-LOCATION;VALUE=URI;X-ADDRESS=Westzijde 148\, Zaandam\, 1
 506 EK\, Nederland;X-APPLE-RADIUS=100;X-TITLE=Roots aan de Zaan:geo:0,0
END:VEVENT
END:VCALENDAR