BEGIN:VCALENDAR
VERSION:2.0
PRODID:-//wp-events-plugin.com//7.2.3.1//EN
BEGIN:VEVENT
UID:11@robin-hielke.nl
DTSTART:20240713T193000Z
DTEND:20240713T233000Z
DTSTAMP:20240612T080116Z
URL:https://robin-hielke.nl/events/voddemoer-in-de-warmoes/
SUMMARY:Voddemoêr in de Warmoes
DESCRIPTION:Tijdens een nieuwe editie van Roots Society speelt Voddemoêr m
 et the Red Oak Troubadours in de Warmoes Utrecht. Toegang op basis van don
 atie.
ATTACH;FMTTYPE=image/jpeg:https://robin-hielke.nl/wp-content/uploads/2024/
 06/LisettePeenen_5-1.jpg
CATEGORIES:Optredens
LOCATION:Warmoes\, Vlampijpstraat 94\, Utrecht\, Utrecht\, 3534 AR\, Nederl
 and
X-APPLE-STRUCTURED-LOCATION;VALUE=URI;X-ADDRESS=Vlampijpstraat 94\, Utrecht
 \, Utrecht\, 3534 AR\, Nederland;X-APPLE-RADIUS=100;X-TITLE=Warmoes:geo:0,
 0
END:VEVENT
END:VCALENDAR