BEGIN:VCALENDAR
VERSION:2.0
PRODID:-//wp-events-plugin.com//7.2.3.1//EN
BEGIN:VEVENT
UID:6@robin-hielke.nl
DTSTART;VALUE=DATE:20240825
DTEND;VALUE=DATE:20240826
DTSTAMP:20240612T080231Z
URL:https://robin-hielke.nl/events/voddemoer-op-het-van-hier-festival/
SUMMARY:Voddemoêr op het VAN HIER festival
DESCRIPTION:
ATTACH;FMTTYPE=image/jpeg:https://robin-hielke.nl/wp-content/uploads/2024/
 06/LisettePeenen_4.jpg
CATEGORIES:Optredens
LOCATION:De Cultuur Boerderij\, Voldijnseweg 8\, Westelbeers\, 5091 KK \, N
 ederland
X-APPLE-STRUCTURED-LOCATION;VALUE=URI;X-ADDRESS=Voldijnseweg 8\, Westelbeer
 s\, 5091 KK \, Nederland;X-APPLE-RADIUS=100;X-TITLE=De Cultuur Boerderij:g
 eo:0,0
END:VEVENT
END:VCALENDAR